Package: hca Version: 1.14.0 Command: /Library/Frameworks/R.framework/Resources/bin/R CMD INSTALL hca StartedAt: 2025-02-10 16:52:01 -0500 (Mon, 10 Feb 2025) EndedAt: 2025-02-10 16:52:09 -0500 (Mon, 10 Feb 2025) EllapsedTime: 7.4 seconds RetCode: 0 Status: OK