Package: hca Version: 1.14.0 Command: /Library/Frameworks/R.framework/Resources/bin/R CMD build --keep-empty-dirs --no-resave-data hca StartedAt: 2025-02-03 19:31:57 -0500 (Mon, 03 Feb 2025) EndedAt: 2025-02-03 19:32:35 -0500 (Mon, 03 Feb 2025) EllapsedTime: 38.5 seconds RetCode: 1 Status: ERROR PackageFile: None PackageFileSize: NA