Package: hca Version: 1.14.0 Command: chmod a+r hca -R && F:\biocbuild\bbs-3.20-bioc\R\bin\R.exe CMD build --keep-empty-dirs --no-resave-data hca StartedAt: 2025-02-03 19:41:49 -0500 (Mon, 03 Feb 2025) EndedAt: 2025-02-03 19:42:18 -0500 (Mon, 03 Feb 2025) EllapsedTime: 29.1 seconds RetCode: 1 Status: ERROR PackageFile: None PackageFileSize: NA