Package: hca Version: 1.14.0 Command: F:\biocbuild\bbs-3.20-bioc\R\bin\R.exe CMD INSTALL hca StartedAt: 2025-02-03 15:59:25 -0500 (Mon, 03 Feb 2025) EndedAt: 2025-02-03 15:59:50 -0500 (Mon, 03 Feb 2025) EllapsedTime: 24.8 seconds RetCode: 0 Status: OK