Package: hca Version: 1.14.0 Command: /home/biocbuild/R/R/bin/R CMD build --keep-empty-dirs --no-resave-data hca StartedAt: 2025-02-11 00:05:08 -0000 (Tue, 11 Feb 2025) EndedAt: 2025-02-11 00:05:34 -0000 (Tue, 11 Feb 2025) EllapsedTime: 26.0 seconds RetCode: 1 Status: ERROR PackageFile: None PackageFileSize: NA