Package: hca Version: 1.14.0 Command: /home/biocbuild/R/R/bin/R CMD INSTALL hca StartedAt: 2025-02-03 20:56:11 -0000 (Mon, 03 Feb 2025) EndedAt: 2025-02-03 20:56:20 -0000 (Mon, 03 Feb 2025) EllapsedTime: 8.5 seconds RetCode: 0 Status: OK