Package: hdxmsqc Version: 1.2.0 Command: rm -rf hdxmsqc.buildbin-libdir && mkdir hdxmsqc.buildbin-libdir && /Users/biocbuild/BBS/utils/build-universal.sh hdxmsqc_1.2.0.tar.gz /Library/Frameworks/R.framework/Resources/bin/R hdxmsqc.buildbin-libdir StartedAt: 2025-02-05 16:11:08 -0500 (Wed, 05 Feb 2025) EndedAt: 2025-02-05 16:11:46 -0500 (Wed, 05 Feb 2025) EllapsedTime: 38.9 seconds RetCode: 0 Status: OK PackageFile: hdxmsqc_1.2.0.tgz PackageFileSize: 4.693 MiB