Package: hdxmsqc Version: 1.2.0 Command: /Library/Frameworks/R.framework/Resources/bin/R CMD build --keep-empty-dirs --no-resave-data hdxmsqc StartedAt: 2025-02-04 01:17:02 -0500 (Tue, 04 Feb 2025) EndedAt: 2025-02-04 01:21:16 -0500 (Tue, 04 Feb 2025) EllapsedTime: 254.5 seconds RetCode: 0 Status: OK PackageFile: hdxmsqc_1.2.0.tar.gz PackageFileSize: 4.59 MiB