Package: hdxmsqc Version: 1.2.0 Command: /Library/Frameworks/R.framework/Resources/bin/R CMD build --keep-empty-dirs --no-resave-data hdxmsqc StartedAt: 2025-02-03 19:32:23 -0500 (Mon, 03 Feb 2025) EndedAt: 2025-02-03 19:42:11 -0500 (Mon, 03 Feb 2025) EllapsedTime: 587.6 seconds RetCode: 0 Status: OK PackageFile: hdxmsqc_1.2.0.tar.gz PackageFileSize: 4.567 MiB