Package: hdxmsqc Version: 1.2.0 Command: /Library/Frameworks/R.framework/Resources/bin/R CMD INSTALL hdxmsqc StartedAt: 2025-02-03 16:05:51 -0500 (Mon, 03 Feb 2025) EndedAt: 2025-02-03 16:06:55 -0500 (Mon, 03 Feb 2025) EllapsedTime: 64.1 seconds RetCode: 0 Status: OK