Package: hdxmsqc Version: 1.2.0 Command: rm -rf hdxmsqc.buildbin-libdir && mkdir hdxmsqc.buildbin-libdir && F:\biocbuild\bbs-3.20-bioc\R\bin\R.exe CMD INSTALL --build --library=hdxmsqc.buildbin-libdir hdxmsqc_1.2.0.tar.gz StartedAt: 2025-02-04 08:41:00 -0500 (Tue, 04 Feb 2025) EndedAt: 2025-02-04 08:41:44 -0500 (Tue, 04 Feb 2025) EllapsedTime: 44.8 seconds RetCode: 0 Status: OK PackageFile: hdxmsqc_1.2.0.zip PackageFileSize: 3.295 MiB