Package: hdxmsqc Version: 1.2.0 Command: chmod a+r hdxmsqc -R && F:\biocbuild\bbs-3.20-bioc\R\bin\R.exe CMD build --keep-empty-dirs --no-resave-data hdxmsqc StartedAt: 2025-02-03 19:42:16 -0500 (Mon, 03 Feb 2025) EndedAt: 2025-02-03 19:48:12 -0500 (Mon, 03 Feb 2025) EllapsedTime: 356.4 seconds RetCode: 0 Status: OK PackageFile: hdxmsqc_1.2.0.tar.gz PackageFileSize: 3.208 MiB