Package: hdxmsqc Version: 1.2.0 Command: /home/biocbuild/R/R/bin/R CMD check --install=check:hdxmsqc.install-out.txt --library=/home/biocbuild/R/R/site-library --no-vignettes --timings hdxmsqc_1.2.0.tar.gz StartedAt: 2025-01-31 07:03:33 -0000 (Fri, 31 Jan 2025) EndedAt: 2025-01-31 07:08:11 -0000 (Fri, 31 Jan 2025) EllapsedTime: 278.2 seconds RetCode: 0 Status: OK CheckDir: hdxmsqc.Rcheck Warnings: 0