Package: hicVennDiagram Version: 1.4.0 Command: rm -rf hicVennDiagram.buildbin-libdir && mkdir hicVennDiagram.buildbin-libdir && /Users/biocbuild/BBS/utils/build-universal.sh hicVennDiagram_1.4.0.tar.gz /Library/Frameworks/R.framework/Resources/bin/R hicVennDiagram.buildbin-libdir StartedAt: 2025-02-05 16:12:52 -0500 (Wed, 05 Feb 2025) EndedAt: 2025-02-05 16:13:36 -0500 (Wed, 05 Feb 2025) EllapsedTime: 44.7 seconds RetCode: 0 Status: OK PackageFile: hicVennDiagram_1.4.0.tgz PackageFileSize: 1.445 MiB