Package: hicVennDiagram Version: 1.4.0 Command: /Library/Frameworks/R.framework/Resources/bin/R CMD build --keep-empty-dirs --no-resave-data hicVennDiagram StartedAt: 2025-02-11 01:32:05 -0500 (Tue, 11 Feb 2025) EndedAt: 2025-02-11 01:33:23 -0500 (Tue, 11 Feb 2025) EllapsedTime: 77.7 seconds RetCode: 0 Status: OK PackageFile: hicVennDiagram_1.4.0.tar.gz PackageFileSize: 1.18 MiB