Package: hicVennDiagram Version: 1.4.0 Command: /Library/Frameworks/R.framework/Resources/bin/R CMD INSTALL hicVennDiagram StartedAt: 2025-02-03 15:58:38 -0500 (Mon, 03 Feb 2025) EndedAt: 2025-02-03 15:59:49 -0500 (Mon, 03 Feb 2025) EllapsedTime: 71.3 seconds RetCode: 0 Status: OK