Package: hicVennDiagram Version: 1.4.0 Command: /home/biocbuild/bbs-3.20-bioc/R/bin/R CMD check --install=check:hicVennDiagram.install-out.txt --library=/home/biocbuild/bbs-3.20-bioc/R/site-library --timings hicVennDiagram_1.4.0.tar.gz StartedAt: 2025-02-03 23:11:27 -0500 (Mon, 03 Feb 2025) EndedAt: 2025-02-03 23:16:15 -0500 (Mon, 03 Feb 2025) EllapsedTime: 288.4 seconds RetCode: 0 Status: OK CheckDir: hicVennDiagram.Rcheck Warnings: 0