Package: hicVennDiagram Version: 1.4.0 Command: rm -rf hicVennDiagram.buildbin-libdir && mkdir hicVennDiagram.buildbin-libdir && F:\biocbuild\bbs-3.20-bioc\R\bin\R.exe CMD INSTALL --build --library=hicVennDiagram.buildbin-libdir hicVennDiagram_1.4.0.tar.gz StartedAt: 2025-02-04 08:41:46 -0500 (Tue, 04 Feb 2025) EndedAt: 2025-02-04 08:44:00 -0500 (Tue, 04 Feb 2025) EllapsedTime: 133.9 seconds RetCode: 0 Status: OK PackageFile: hicVennDiagram_1.4.0.zip PackageFileSize: 1.091 MiB