Package: hierGWAS Version: 1.36.0 Command: /Library/Frameworks/R.framework/Resources/bin/R CMD INSTALL hierGWAS StartedAt: 2025-02-03 17:05:41 -0500 (Mon, 03 Feb 2025) EndedAt: 2025-02-03 17:05:48 -0500 (Mon, 03 Feb 2025) EllapsedTime: 6.3 seconds RetCode: 0 Status: OK