Package: hierGWAS Version: 1.36.0 Command: rm -rf hierGWAS.buildbin-libdir && mkdir hierGWAS.buildbin-libdir && /Users/biocbuild/BBS/utils/build-universal.sh hierGWAS_1.36.0.tar.gz /Library/Frameworks/R.framework/Resources/bin/R hierGWAS.buildbin-libdir StartedAt: 2025-02-11 13:28:30 -0500 (Tue, 11 Feb 2025) EndedAt: 2025-02-11 13:28:50 -0500 (Tue, 11 Feb 2025) EllapsedTime: 20.1 seconds RetCode: 0 Status: OK PackageFile: hierGWAS_1.36.0.tgz PackageFileSize: 545.4 KiB