Package: hierGWAS Version: 1.36.0 Command: /Library/Frameworks/R.framework/Resources/bin/R CMD build --keep-empty-dirs --no-resave-data hierGWAS StartedAt: 2025-02-03 19:36:03 -0500 (Mon, 03 Feb 2025) EndedAt: 2025-02-03 19:38:57 -0500 (Mon, 03 Feb 2025) EllapsedTime: 173.3 seconds RetCode: 0 Status: OK PackageFile: hierGWAS_1.36.0.tar.gz PackageFileSize: 566.9 KiB