Package: hierGWAS Version: 1.36.0 Command: /home/biocbuild/bbs-3.20-bioc/R/bin/R CMD check --install=check:hierGWAS.install-out.txt --library=/home/biocbuild/bbs-3.20-bioc/R/site-library --timings hierGWAS_1.36.0.tar.gz StartedAt: 2025-02-10 23:02:54 -0500 (Mon, 10 Feb 2025) EndedAt: 2025-02-10 23:05:23 -0500 (Mon, 10 Feb 2025) EllapsedTime: 149.1 seconds RetCode: 0 Status: WARNINGS CheckDir: hierGWAS.Rcheck Warnings: 1