Package: hierGWAS Version: 1.36.0 Command: /home/biocbuild/bbs-3.20-bioc/R/bin/R CMD INSTALL hierGWAS StartedAt: 2025-02-03 15:49:45 -0500 (Mon, 03 Feb 2025) EndedAt: 2025-02-03 15:49:51 -0500 (Mon, 03 Feb 2025) EllapsedTime: 5.3 seconds RetCode: 0 Status: OK