Package: hierGWAS Version: 1.36.0 Command: rm -rf hierGWAS.buildbin-libdir && mkdir hierGWAS.buildbin-libdir && F:\biocbuild\bbs-3.20-bioc\R\bin\R.exe CMD INSTALL --build --library=hierGWAS.buildbin-libdir hierGWAS_1.36.0.tar.gz StartedAt: 2025-02-04 08:41:48 -0500 (Tue, 04 Feb 2025) EndedAt: 2025-02-04 08:41:59 -0500 (Tue, 04 Feb 2025) EllapsedTime: 11.0 seconds RetCode: 0 Status: OK PackageFile: hierGWAS_1.36.0.zip PackageFileSize: 421.2 KiB