Package: hierGWAS Version: 1.36.0 Command: chmod a+r hierGWAS -R && F:\biocbuild\bbs-3.20-bioc\R\bin\R.exe CMD build --keep-empty-dirs --no-resave-data hierGWAS StartedAt: 2025-02-03 19:44:28 -0500 (Mon, 03 Feb 2025) EndedAt: 2025-02-03 19:46:29 -0500 (Mon, 03 Feb 2025) EllapsedTime: 121.0 seconds RetCode: 0 Status: OK PackageFile: hierGWAS_1.36.0.tar.gz PackageFileSize: 432.2 KiB