Package: hierGWAS Version: 1.36.0 Command: F:\biocbuild\bbs-3.20-bioc\R\bin\R.exe CMD INSTALL hierGWAS StartedAt: 2025-02-03 16:08:20 -0500 (Mon, 03 Feb 2025) EndedAt: 2025-02-03 16:08:31 -0500 (Mon, 03 Feb 2025) EllapsedTime: 11.7 seconds RetCode: 0 Status: OK