Package: hierGWAS Version: 1.36.0 Command: /home/biocbuild/R/R/bin/R CMD build --keep-empty-dirs --no-resave-data hierGWAS StartedAt: 2025-02-11 00:07:37 -0000 (Tue, 11 Feb 2025) EndedAt: 2025-02-11 00:09:25 -0000 (Tue, 11 Feb 2025) EllapsedTime: 108.0 seconds RetCode: 0 Status: OK PackageFile: hierGWAS_1.36.0.tar.gz PackageFileSize: 555.5 KiB