Package: hierGWAS Version: 1.36.0 Command: /home/biocbuild/R/R/bin/R CMD check --install=check:hierGWAS.install-out.txt --library=/home/biocbuild/R/R/site-library --no-vignettes --timings hierGWAS_1.36.0.tar.gz StartedAt: 2025-02-04 07:50:37 -0000 (Tue, 04 Feb 2025) EndedAt: 2025-02-04 07:51:46 -0000 (Tue, 04 Feb 2025) EllapsedTime: 69.0 seconds RetCode: 0 Status: WARNINGS CheckDir: hierGWAS.Rcheck Warnings: 1