Package: hierGWAS Version: 1.36.0 Command: /home/biocbuild/R/R/bin/R CMD INSTALL hierGWAS StartedAt: 2025-02-03 21:04:02 -0000 (Mon, 03 Feb 2025) EndedAt: 2025-02-03 21:04:09 -0000 (Mon, 03 Feb 2025) EllapsedTime: 6.8 seconds RetCode: 0 Status: OK