Package: hierinf Version: 1.24.0 Maintainer: Claude Renaux MaintainerEmail: renaux at stat.math.ethz.ch git_url: https://git.bioconductor.org/packages/hierinf git_branch: RELEASE_3_20 git_last_commit: 42f2bbb git_last_commit_date: 2024-10-29 10:30:23 -0500 (Tue, 29 Oct 2024)