Package: hierinf Version: 1.24.0 Command: rm -rf hierinf.buildbin-libdir && mkdir hierinf.buildbin-libdir && /Users/biocbuild/BBS/utils/build-universal.sh hierinf_1.24.0.tar.gz /Library/Frameworks/R.framework/Resources/bin/R hierinf.buildbin-libdir StartedAt: 2025-02-05 16:13:17 -0500 (Wed, 05 Feb 2025) EndedAt: 2025-02-05 16:13:22 -0500 (Wed, 05 Feb 2025) EllapsedTime: 4.5 seconds RetCode: 0 Status: OK PackageFile: hierinf_1.24.0.tgz PackageFileSize: 491 KiB