Package: hierinf Version: 1.24.0 Command: /Library/Frameworks/R.framework/Resources/bin/R CMD build --keep-empty-dirs --no-resave-data hierinf StartedAt: 2025-02-04 01:28:03 -0500 (Tue, 04 Feb 2025) EndedAt: 2025-02-04 01:30:14 -0500 (Tue, 04 Feb 2025) EllapsedTime: 130.4 seconds RetCode: 0 Status: OK PackageFile: hierinf_1.24.0.tar.gz PackageFileSize: 432.1 KiB