Package: hierinf Version: 1.24.0 Command: /home/biocbuild/R/R/bin/R CMD build --keep-empty-dirs --no-resave-data hierinf StartedAt: 2024-11-20 01:23:23 -0000 (Wed, 20 Nov 2024) EndedAt: 2024-11-20 01:25:59 -0000 (Wed, 20 Nov 2024) EllapsedTime: 156.1 seconds RetCode: 0 Status: OK PackageFile: hierinf_1.24.0.tar.gz PackageFileSize: 420.6 KiB