Package: hierinf Version: 1.24.0 Command: /home/biocbuild/R/R/bin/R CMD check --install=check:hierinf.install-out.txt --library=/home/biocbuild/R/R/site-library --no-vignettes --timings hierinf_1.24.0.tar.gz StartedAt: 2024-11-20 08:48:25 -0000 (Wed, 20 Nov 2024) EndedAt: 2024-11-20 08:53:40 -0000 (Wed, 20 Nov 2024) EllapsedTime: 315.5 seconds RetCode: 1 Status: ERROR CheckDir: hierinf.Rcheck Warnings: NA