Package: hierinf Version: 1.24.0 Command: /home/biocbuild/bbs-3.20-bioc/R/bin/R CMD check --install=check:hierinf.install-out.txt --library=/home/biocbuild/bbs-3.20-bioc/R/site-library --timings hierinf_1.24.0.tar.gz StartedAt: 2025-01-30 23:02:18 -0500 (Thu, 30 Jan 2025) EndedAt: 2025-01-30 23:06:25 -0500 (Thu, 30 Jan 2025) EllapsedTime: 247.3 seconds RetCode: 0 Status: OK CheckDir: hierinf.Rcheck Warnings: 0