Package: hierinf Version: 1.23.0 Command: rm -rf hierinf.buildbin-libdir && mkdir hierinf.buildbin-libdir && C:\Users\biocbuild\bbs-3.20-bioc\R\bin\R.exe CMD INSTALL --build --library=hierinf.buildbin-libdir hierinf_1.23.0.tar.gz StartedAt: 2024-07-16 06:18:36 -0400 (Tue, 16 Jul 2024) EndedAt: 2024-07-16 06:18:42 -0400 (Tue, 16 Jul 2024) EllapsedTime: 6.4 seconds RetCode: 0 Status: OK PackageFile: hierinf_1.23.0.zip PackageFileSize: 502.2 KiB