Package: hierinf Version: 1.24.0 Command: rm -rf hierinf.buildbin-libdir && mkdir hierinf.buildbin-libdir && F:\biocbuild\bbs-3.20-bioc\R\bin\R.exe CMD INSTALL --build --library=hierinf.buildbin-libdir hierinf_1.24.0.tar.gz StartedAt: 2025-02-04 08:41:50 -0500 (Tue, 04 Feb 2025) EndedAt: 2025-02-04 08:42:00 -0500 (Tue, 04 Feb 2025) EllapsedTime: 10.4 seconds RetCode: 0 Status: OK PackageFile: hierinf_1.24.0.zip PackageFileSize: 502.1 KiB