Package: hierinf Version: 1.24.0 Command: chmod a+r hierinf -R && F:\biocbuild\bbs-3.20-bioc\R\bin\R.exe CMD build --keep-empty-dirs --no-resave-data hierinf StartedAt: 2025-01-30 19:29:32 -0500 (Thu, 30 Jan 2025) EndedAt: 2025-01-30 19:31:13 -0500 (Thu, 30 Jan 2025) EllapsedTime: 100.7 seconds RetCode: 0 Status: OK PackageFile: hierinf_1.24.0.tar.gz PackageFileSize: 430.5 KiB