Package: hierinf Version: 1.24.0 Command: /home/biocbuild/R/R/bin/R CMD build --keep-empty-dirs --no-resave-data hierinf StartedAt: 2025-02-04 00:16:44 -0000 (Tue, 04 Feb 2025) EndedAt: 2025-02-04 00:19:06 -0000 (Tue, 04 Feb 2025) EllapsedTime: 142.1 seconds RetCode: 0 Status: OK PackageFile: hierinf_1.24.0.tar.gz PackageFileSize: 422.1 KiB