Package: hipathia Version: 3.6.0 Command: /Library/Frameworks/R.framework/Resources/bin/R CMD build --keep-empty-dirs --no-resave-data hipathia StartedAt: 2025-02-03 19:37:06 -0500 (Mon, 03 Feb 2025) EndedAt: 2025-02-03 19:54:50 -0500 (Mon, 03 Feb 2025) EllapsedTime: 1064.0 seconds RetCode: 0 Status: OK PackageFile: hipathia_3.6.0.tar.gz PackageFileSize: 7.767 MiB