Package: hipathia Version: 3.6.0 Command: /Library/Frameworks/R.framework/Resources/bin/R CMD check --install=check:hipathia.install-out.txt --library=/Library/Frameworks/R.framework/Resources/library --no-vignettes --timings hipathia_3.6.0.tar.gz StartedAt: 2025-02-04 04:59:02 -0500 (Tue, 04 Feb 2025) EndedAt: 2025-02-04 05:30:05 -0500 (Tue, 04 Feb 2025) EllapsedTime: 1863.5 seconds RetCode: 0 Status: OK CheckDir: hipathia.Rcheck Warnings: 0