Package: hipathia Version: 3.6.0 Command: /Library/Frameworks/R.framework/Resources/bin/R CMD INSTALL hipathia StartedAt: 2025-02-03 16:45:23 -0500 (Mon, 03 Feb 2025) EndedAt: 2025-02-03 16:46:42 -0500 (Mon, 03 Feb 2025) EllapsedTime: 78.9 seconds RetCode: 0 Status: OK