Package: hipathia Version: 3.6.0 Command: /home/biocbuild/bbs-3.20-bioc/R/bin/R CMD build --keep-empty-dirs --no-resave-data --md5 hipathia StartedAt: 2025-02-03 17:48:53 -0500 (Mon, 03 Feb 2025) EndedAt: 2025-02-03 17:55:42 -0500 (Mon, 03 Feb 2025) EllapsedTime: 409.6 seconds RetCode: 0 Status: OK PackageFile: hipathia_3.6.0.tar.gz PackageFileSize: 7.769 MiB