Package: hipathia Version: 3.6.0 Command: /home/biocbuild/bbs-3.20-bioc/R/bin/R CMD check --install=check:hipathia.install-out.txt --library=/home/biocbuild/bbs-3.20-bioc/R/site-library --timings hipathia_3.6.0.tar.gz StartedAt: 2025-02-03 23:12:55 -0500 (Mon, 03 Feb 2025) EndedAt: 2025-02-03 23:32:38 -0500 (Mon, 03 Feb 2025) EllapsedTime: 1182.4 seconds RetCode: 0 Status: OK CheckDir: hipathia.Rcheck Warnings: 0