Package: hipathia Version: 3.6.0 Command: /home/biocbuild/R/R/bin/R CMD build --keep-empty-dirs --no-resave-data hipathia StartedAt: 2025-02-11 00:08:22 -0000 (Tue, 11 Feb 2025) EndedAt: 2025-02-11 00:18:16 -0000 (Tue, 11 Feb 2025) EllapsedTime: 593.3 seconds RetCode: 0 Status: OK PackageFile: hipathia_3.6.0.tar.gz PackageFileSize: 7.752 MiB