Package: hipathia Version: 3.6.0 Command: /home/biocbuild/R/R/bin/R CMD INSTALL hipathia StartedAt: 2025-02-10 21:06:32 -0000 (Mon, 10 Feb 2025) EndedAt: 2025-02-10 21:07:20 -0000 (Mon, 10 Feb 2025) EllapsedTime: 47.1 seconds RetCode: 0 Status: OK