Package: hpar Version: 1.48.0 Command: /Library/Frameworks/R.framework/Resources/bin/R CMD build --keep-empty-dirs --no-resave-data hpar StartedAt: 2025-02-04 01:33:50 -0500 (Tue, 04 Feb 2025) EndedAt: 2025-02-04 01:34:42 -0500 (Tue, 04 Feb 2025) EllapsedTime: 51.9 seconds RetCode: 0 Status: OK PackageFile: hpar_1.48.0.tar.gz PackageFileSize: 885.3 KiB