Package: hpar Version: 1.48.0 Command: /Library/Frameworks/R.framework/Resources/bin/R CMD build --keep-empty-dirs --no-resave-data hpar StartedAt: 2025-02-10 19:36:55 -0500 (Mon, 10 Feb 2025) EndedAt: 2025-02-10 19:38:25 -0500 (Mon, 10 Feb 2025) EllapsedTime: 90.8 seconds RetCode: 0 Status: OK PackageFile: hpar_1.48.0.tar.gz PackageFileSize: 885.2 KiB