Package: hpar Version: 1.48.0 Command: /Library/Frameworks/R.framework/Resources/bin/R CMD INSTALL hpar StartedAt: 2025-02-03 15:38:02 -0500 (Mon, 03 Feb 2025) EndedAt: 2025-02-03 15:38:34 -0500 (Mon, 03 Feb 2025) EllapsedTime: 31.7 seconds RetCode: 0 Status: OK