Package: hpar Version: 1.48.0 Command: /home/biocbuild/bbs-3.20-bioc/R/bin/R CMD check --install=check:hpar.install-out.txt --library=/home/biocbuild/bbs-3.20-bioc/R/site-library --timings hpar_1.48.0.tar.gz StartedAt: 2025-02-03 23:14:47 -0500 (Mon, 03 Feb 2025) EndedAt: 2025-02-03 23:16:51 -0500 (Mon, 03 Feb 2025) EllapsedTime: 124.2 seconds RetCode: 0 Status: OK CheckDir: hpar.Rcheck Warnings: 0